BEGIN:VCALENDAR
VERSION:2.0
PRODID:-// - ECPv6.15.20//NONSGML v1.0//EN
CALSCALE:GREGORIAN
METHOD:PUBLISH
X-ORIGINAL-URL:https://landcaresj.com.au
X-WR-CALDESC:Events for 
REFRESH-INTERVAL;VALUE=DURATION:PT1H
X-Robots-Tag:noindex
X-PUBLISHED-TTL:PT1H
BEGIN:VTIMEZONE
TZID:Australia/Perth
BEGIN:STANDARD
TZOFFSETFROM:+0800
TZOFFSETTO:+0800
TZNAME:AWST
DTSTART:20180101T000000
END:STANDARD
END:VTIMEZONE
BEGIN:VEVENT
DTSTART;TZID=Australia/Perth:20191103T100000
DTEND;TZID=Australia/Perth:20191103T120000
DTSTAMP:20260423T051620
CREATED:20191003T050939Z
LAST-MODIFIED:20191003T054351Z
UID:7083-1572775200-1572782400@landcaresj.com.au
SUMMARY:Black Cockatoo Monitoring Project
DESCRIPTION:
URL:https://landcaresj.com.au/event/black-cockatoo-monitoring-project/
LOCATION:Landcare SJ Meeting Room\, 12 Paterson Street\, Mundijong\, 6123\, Australia
CATEGORIES:Events
END:VEVENT
BEGIN:VEVENT
DTSTART;TZID=Australia/Perth:20190929T080000
DTEND;TZID=Australia/Perth:20191004T170000
DTSTAMP:20260423T051620
CREATED:20190531T045433Z
LAST-MODIFIED:20190531T045449Z
UID:5310-1569744000-1570208400@landcaresj.com.au
SUMMARY:Blooming Biodiversity
DESCRIPTION:
URL:https://landcaresj.com.au/event/blooming-biodiversity/
LOCATION:Albany Entertainment Centre\, Albany Entertainment Centre\, Albany\, Australia
CATEGORIES:Events
END:VEVENT
BEGIN:VEVENT
DTSTART;VALUE=DATE:20190911
DTEND;VALUE=DATE:20190912
DTSTAMP:20260423T051620
CREATED:20190531T043345Z
LAST-MODIFIED:20190531T043345Z
UID:5302-1568160000-1568246399@landcaresj.com.au
SUMMARY:Regenerative Agriculture Conference
DESCRIPTION:
URL:https://landcaresj.com.au/event/regenerative-agriculture-conference/
LOCATION:Optus Stadium\, 333 Victoria Park Drive\, Burswood\, 6011\, Australia
CATEGORIES:Events
END:VEVENT
BEGIN:VEVENT
DTSTART;TZID=Australia/Perth:20190704T170000
DTEND;TZID=Australia/Perth:20190704T180000
DTSTAMP:20260423T051620
CREATED:20190531T055428Z
LAST-MODIFIED:20190531T055428Z
UID:5317-1562259600-1562263200@landcaresj.com.au
SUMMARY:Feral Scan Workshop
DESCRIPTION:
URL:https://landcaresj.com.au/event/feral-scan-workshop/
LOCATION:Waroona Football Club\, Parnell Street\, Waroona\, 6215\, Australia
CATEGORIES:Events
END:VEVENT
END:VCALENDAR