BEGIN:VCALENDAR
VERSION:2.0
PRODID:-// - ECPv6.15.20//NONSGML v1.0//EN
CALSCALE:GREGORIAN
METHOD:PUBLISH
X-ORIGINAL-URL:https://landcaresj.com.au
X-WR-CALDESC:Events for 
REFRESH-INTERVAL;VALUE=DURATION:PT1H
X-Robots-Tag:noindex
X-PUBLISHED-TTL:PT1H
BEGIN:VTIMEZONE
TZID:Australia/Perth
BEGIN:STANDARD
TZOFFSETFROM:+0800
TZOFFSETTO:+0800
TZNAME:AWST
DTSTART:20200101T000000
END:STANDARD
END:VTIMEZONE
BEGIN:VEVENT
DTSTART;TZID=Australia/Perth:20210220T140000
DTEND;TZID=Australia/Perth:20210220T170000
DTSTAMP:20260424T232122
CREATED:20210130T004604Z
LAST-MODIFIED:20210130T005537Z
UID:11793-1613829600-1613840400@landcaresj.com.au
SUMMARY:Birds in Paradise
DESCRIPTION:Birds in Paradise (Byford Hall) Saturday February 20 2:00 pm – 5:00pm  Free event–  \nThe event will feature Ron Johnstone OAM\, from WA Museum\, discussing 50 years of ornithology at the WA Museum.  The presentation will include details of the history of the WA Museum collections\, their use and current projects\, including the forthcoming WA bird guide\, the Museums Cocky Care project and their work in Indonesia. \nAlso Birdlife WA will present on Black Cockatoos and let you know how you can be involved in the Great Cocky Count. \nTickets available:    http://bit.ly/BirdsinParadise \n 
URL:https://landcaresj.com.au/event/birds-in-paradise/
LOCATION:Byford Hall\, 9 Clifton Street\, Byford\, Western Australia\, 6122\, Australia
CATEGORIES:Events
ATTACH;FMTTYPE=image/png:https://landcaresj.com.au/wp-content/uploads/2021/01/GCC-byford-poster-21.png
END:VEVENT
END:VCALENDAR